BEGIN:VCALENDAR
VERSION:2.0
PRODID:-//Wallington SDA Hub - ECPv6.7.1//NONSGML v1.0//EN
CALSCALE:GREGORIAN
METHOD:PUBLISH
X-ORIGINAL-URL:https://wallingtonsdahub.co.uk
X-WR-CALDESC:Events for Wallington SDA Hub
REFRESH-INTERVAL;VALUE=DURATION:PT1H
X-Robots-Tag:noindex
X-PUBLISHED-TTL:PT1H
BEGIN:VTIMEZONE
TZID:UTC
BEGIN:STANDARD
TZOFFSETFROM:+0000
TZOFFSETTO:+0000
TZNAME:UTC
DTSTART:20250101T000000
END:STANDARD
END:VTIMEZONE
BEGIN:VEVENT
DTSTART;TZID=UTC:20251218T170000
DTEND;TZID=UTC:20251218T190000
DTSTAMP:20260423T125957
CREATED:20250119T082310Z
LAST-MODIFIED:20250119T082310Z
UID:1898-1766077200-1766084400@wallingtonsdahub.co.uk
SUMMARY:Champz Youth Club
DESCRIPTION:
URL:https://wallingtonsdahub.co.uk/event/champz-youth-club-68/
CATEGORIES:Champz Youth Club
END:VEVENT
BEGIN:VEVENT
DTSTART;TZID=UTC:20251211T170000
DTEND;TZID=UTC:20251211T190000
DTSTAMP:20260423T125957
CREATED:20250119T082310Z
LAST-MODIFIED:20250119T082310Z
UID:1897-1765472400-1765479600@wallingtonsdahub.co.uk
SUMMARY:Champz Youth Club
DESCRIPTION:
URL:https://wallingtonsdahub.co.uk/event/champz-youth-club-67/
CATEGORIES:Champz Youth Club
END:VEVENT
BEGIN:VEVENT
DTSTART;TZID=UTC:20251204T170000
DTEND;TZID=UTC:20251204T190000
DTSTAMP:20260423T125957
CREATED:20250119T082109Z
LAST-MODIFIED:20250119T082109Z
UID:1896-1764867600-1764874800@wallingtonsdahub.co.uk
SUMMARY:Champz Youth Club
DESCRIPTION:
URL:https://wallingtonsdahub.co.uk/event/champz-youth-club-66/
CATEGORIES:Champz Youth Club
END:VEVENT
BEGIN:VEVENT
DTSTART;TZID=UTC:20251127T170000
DTEND;TZID=UTC:20251127T190000
DTSTAMP:20260423T125957
CREATED:20250119T082109Z
LAST-MODIFIED:20250119T082109Z
UID:1895-1764262800-1764270000@wallingtonsdahub.co.uk
SUMMARY:Champz Youth Club
DESCRIPTION:
URL:https://wallingtonsdahub.co.uk/event/champz-youth-club-65/
CATEGORIES:Champz Youth Club
END:VEVENT
BEGIN:VEVENT
DTSTART;TZID=UTC:20251120T170000
DTEND;TZID=UTC:20251120T190000
DTSTAMP:20260423T125957
CREATED:20250119T082109Z
LAST-MODIFIED:20250119T082109Z
UID:1894-1763658000-1763665200@wallingtonsdahub.co.uk
SUMMARY:Champz Youth Club
DESCRIPTION:
URL:https://wallingtonsdahub.co.uk/event/champz-youth-club-64/
CATEGORIES:Champz Youth Club
END:VEVENT
BEGIN:VEVENT
DTSTART;TZID=UTC:20251113T170000
DTEND;TZID=UTC:20251113T190000
DTSTAMP:20260423T125957
CREATED:20250119T082109Z
LAST-MODIFIED:20250119T082109Z
UID:1893-1763053200-1763060400@wallingtonsdahub.co.uk
SUMMARY:Champz Youth Club
DESCRIPTION:
URL:https://wallingtonsdahub.co.uk/event/champz-youth-club-63/
CATEGORIES:Champz Youth Club
END:VEVENT
BEGIN:VEVENT
DTSTART;TZID=UTC:20251106T170000
DTEND;TZID=UTC:20251106T190000
DTSTAMP:20260423T125957
CREATED:20250119T082109Z
LAST-MODIFIED:20250119T082109Z
UID:1892-1762448400-1762455600@wallingtonsdahub.co.uk
SUMMARY:Champz Youth Club
DESCRIPTION:
URL:https://wallingtonsdahub.co.uk/event/champz-youth-club-62/
CATEGORIES:Champz Youth Club
END:VEVENT
BEGIN:VEVENT
DTSTART;TZID=UTC:20251016T170000
DTEND;TZID=UTC:20251016T190000
DTSTAMP:20260423T125957
CREATED:20250119T081909Z
LAST-MODIFIED:20250119T081909Z
UID:1891-1760634000-1760641200@wallingtonsdahub.co.uk
SUMMARY:Champz Youth Club
DESCRIPTION:
URL:https://wallingtonsdahub.co.uk/event/champz-youth-club-61/
CATEGORIES:Champz Youth Club
END:VEVENT
BEGIN:VEVENT
DTSTART;TZID=UTC:20251009T170000
DTEND;TZID=UTC:20251009T190000
DTSTAMP:20260423T125957
CREATED:20250119T081908Z
LAST-MODIFIED:20250119T081908Z
UID:1890-1760029200-1760036400@wallingtonsdahub.co.uk
SUMMARY:Champz Youth Club
DESCRIPTION:
URL:https://wallingtonsdahub.co.uk/event/champz-youth-club-60/
CATEGORIES:Champz Youth Club
END:VEVENT
BEGIN:VEVENT
DTSTART;TZID=UTC:20251002T170000
DTEND;TZID=UTC:20251002T190000
DTSTAMP:20260423T125957
CREATED:20250119T081908Z
LAST-MODIFIED:20250119T081908Z
UID:1889-1759424400-1759431600@wallingtonsdahub.co.uk
SUMMARY:Champz Youth Club
DESCRIPTION:
URL:https://wallingtonsdahub.co.uk/event/champz-youth-club-59/
CATEGORIES:Champz Youth Club
END:VEVENT
BEGIN:VEVENT
DTSTART;TZID=UTC:20250925T170000
DTEND;TZID=UTC:20250925T190000
DTSTAMP:20260423T125957
CREATED:20250119T081908Z
LAST-MODIFIED:20250119T081908Z
UID:1888-1758819600-1758826800@wallingtonsdahub.co.uk
SUMMARY:Champz Youth Club
DESCRIPTION:
URL:https://wallingtonsdahub.co.uk/event/champz-youth-club-58/
CATEGORIES:Champz Youth Club
END:VEVENT
BEGIN:VEVENT
DTSTART;TZID=UTC:20250918T170000
DTEND;TZID=UTC:20250918T190000
DTSTAMP:20260423T125957
CREATED:20250119T081908Z
LAST-MODIFIED:20250119T081908Z
UID:1887-1758214800-1758222000@wallingtonsdahub.co.uk
SUMMARY:Champz Youth Club
DESCRIPTION:
URL:https://wallingtonsdahub.co.uk/event/champz-youth-club-57/
CATEGORIES:Champz Youth Club
END:VEVENT
BEGIN:VEVENT
DTSTART;TZID=UTC:20250911T170000
DTEND;TZID=UTC:20250911T190000
DTSTAMP:20260423T125957
CREATED:20250119T081852Z
LAST-MODIFIED:20250119T081852Z
UID:1886-1757610000-1757617200@wallingtonsdahub.co.uk
SUMMARY:Champz Youth Club
DESCRIPTION:
URL:https://wallingtonsdahub.co.uk/event/champz-youth-club-56/
CATEGORIES:Champz Youth Club
END:VEVENT
BEGIN:VEVENT
DTSTART;TZID=UTC:20250904T170000
DTEND;TZID=UTC:20250904T190000
DTSTAMP:20260423T125957
CREATED:20250119T081852Z
LAST-MODIFIED:20250119T081852Z
UID:1885-1757005200-1757012400@wallingtonsdahub.co.uk
SUMMARY:Champz Youth Club
DESCRIPTION:
URL:https://wallingtonsdahub.co.uk/event/champz-youth-club-55/
CATEGORIES:Champz Youth Club
END:VEVENT
BEGIN:VEVENT
DTSTART;TZID=UTC:20250717T170000
DTEND;TZID=UTC:20250717T190000
DTSTAMP:20260423T125957
CREATED:20250119T081852Z
LAST-MODIFIED:20250119T081852Z
UID:1884-1752771600-1752778800@wallingtonsdahub.co.uk
SUMMARY:Champz Youth Club
DESCRIPTION:
URL:https://wallingtonsdahub.co.uk/event/champz-youth-club-54/
CATEGORIES:Champz Youth Club
END:VEVENT
BEGIN:VEVENT
DTSTART;TZID=UTC:20250710T170000
DTEND;TZID=UTC:20250710T190000
DTSTAMP:20260423T125957
CREATED:20250119T081852Z
LAST-MODIFIED:20250119T081852Z
UID:1883-1752166800-1752174000@wallingtonsdahub.co.uk
SUMMARY:Champz Youth Club
DESCRIPTION:
URL:https://wallingtonsdahub.co.uk/event/champz-youth-club-53/
CATEGORIES:Champz Youth Club
END:VEVENT
BEGIN:VEVENT
DTSTART;TZID=UTC:20250703T170000
DTEND;TZID=UTC:20250703T190000
DTSTAMP:20260423T125957
CREATED:20250119T081852Z
LAST-MODIFIED:20250119T081852Z
UID:1882-1751562000-1751569200@wallingtonsdahub.co.uk
SUMMARY:Champz Youth Club
DESCRIPTION:
URL:https://wallingtonsdahub.co.uk/event/champz-youth-club-52/
CATEGORIES:Champz Youth Club
END:VEVENT
BEGIN:VEVENT
DTSTART;TZID=UTC:20250626T170000
DTEND;TZID=UTC:20250626T190000
DTSTAMP:20260423T125957
CREATED:20250119T081837Z
LAST-MODIFIED:20250119T081837Z
UID:1881-1750957200-1750964400@wallingtonsdahub.co.uk
SUMMARY:Champz Youth Club
DESCRIPTION:
URL:https://wallingtonsdahub.co.uk/event/champz-youth-club-51/
CATEGORIES:Champz Youth Club
END:VEVENT
BEGIN:VEVENT
DTSTART;TZID=UTC:20250619T170000
DTEND;TZID=UTC:20250619T190000
DTSTAMP:20260423T125957
CREATED:20250119T081837Z
LAST-MODIFIED:20250119T081837Z
UID:1880-1750352400-1750359600@wallingtonsdahub.co.uk
SUMMARY:Champz Youth Club
DESCRIPTION:
URL:https://wallingtonsdahub.co.uk/event/champz-youth-club-50/
CATEGORIES:Champz Youth Club
END:VEVENT
BEGIN:VEVENT
DTSTART;TZID=UTC:20250612T170000
DTEND;TZID=UTC:20250612T190000
DTSTAMP:20260423T125957
CREATED:20250119T081837Z
LAST-MODIFIED:20250119T081837Z
UID:1879-1749747600-1749754800@wallingtonsdahub.co.uk
SUMMARY:Champz Youth Club
DESCRIPTION:
URL:https://wallingtonsdahub.co.uk/event/champz-youth-club-49/
CATEGORIES:Champz Youth Club
END:VEVENT
BEGIN:VEVENT
DTSTART;TZID=UTC:20250605T170000
DTEND;TZID=UTC:20250605T190000
DTSTAMP:20260423T125957
CREATED:20250119T081837Z
LAST-MODIFIED:20250119T081837Z
UID:1878-1749142800-1749150000@wallingtonsdahub.co.uk
SUMMARY:Champz Youth Club
DESCRIPTION:
URL:https://wallingtonsdahub.co.uk/event/champz-youth-club-48/
CATEGORIES:Champz Youth Club
END:VEVENT
BEGIN:VEVENT
DTSTART;TZID=UTC:20250522T170000
DTEND;TZID=UTC:20250522T190000
DTSTAMP:20260423T125957
CREATED:20250119T081837Z
LAST-MODIFIED:20250119T081837Z
UID:1877-1747933200-1747940400@wallingtonsdahub.co.uk
SUMMARY:Champz Youth Club
DESCRIPTION:
URL:https://wallingtonsdahub.co.uk/event/champz-youth-club-47/
CATEGORIES:Champz Youth Club
END:VEVENT
BEGIN:VEVENT
DTSTART;TZID=UTC:20250515T170000
DTEND;TZID=UTC:20250515T190000
DTSTAMP:20260423T125957
CREATED:20250119T081821Z
LAST-MODIFIED:20250119T081821Z
UID:1876-1747328400-1747335600@wallingtonsdahub.co.uk
SUMMARY:Champz Youth Club
DESCRIPTION:
URL:https://wallingtonsdahub.co.uk/event/champz-youth-club-46/
CATEGORIES:Champz Youth Club
END:VEVENT
BEGIN:VEVENT
DTSTART;TZID=UTC:20250508T170000
DTEND;TZID=UTC:20250508T190000
DTSTAMP:20260423T125957
CREATED:20250119T081821Z
LAST-MODIFIED:20250119T081821Z
UID:1875-1746723600-1746730800@wallingtonsdahub.co.uk
SUMMARY:Champz Youth Club
DESCRIPTION:
URL:https://wallingtonsdahub.co.uk/event/champz-youth-club-45/
CATEGORIES:Champz Youth Club
END:VEVENT
BEGIN:VEVENT
DTSTART;TZID=UTC:20250501T170000
DTEND;TZID=UTC:20250501T190000
DTSTAMP:20260423T125957
CREATED:20250119T081821Z
LAST-MODIFIED:20250119T081821Z
UID:1874-1746118800-1746126000@wallingtonsdahub.co.uk
SUMMARY:Champz Youth Club
DESCRIPTION:
URL:https://wallingtonsdahub.co.uk/event/champz-youth-club-44/
CATEGORIES:Champz Youth Club
END:VEVENT
BEGIN:VEVENT
DTSTART;TZID=UTC:20250424T170000
DTEND;TZID=UTC:20250424T190000
DTSTAMP:20260423T125957
CREATED:20250119T081821Z
LAST-MODIFIED:20250119T081821Z
UID:1873-1745514000-1745521200@wallingtonsdahub.co.uk
SUMMARY:Champz Youth Club
DESCRIPTION:
URL:https://wallingtonsdahub.co.uk/event/champz-youth-club-43/
CATEGORIES:Champz Youth Club
END:VEVENT
BEGIN:VEVENT
DTSTART;TZID=UTC:20250403T170000
DTEND;TZID=UTC:20250403T190000
DTSTAMP:20260423T125957
CREATED:20250119T081821Z
LAST-MODIFIED:20250119T081821Z
UID:1872-1743699600-1743706800@wallingtonsdahub.co.uk
SUMMARY:Champz Youth Club
DESCRIPTION:
URL:https://wallingtonsdahub.co.uk/event/champz-youth-club-42/
CATEGORIES:Champz Youth Club
END:VEVENT
BEGIN:VEVENT
DTSTART;TZID=UTC:20250327T170000
DTEND;TZID=UTC:20250327T190000
DTSTAMP:20260423T125957
CREATED:20250119T081805Z
LAST-MODIFIED:20250119T081805Z
UID:1871-1743094800-1743102000@wallingtonsdahub.co.uk
SUMMARY:Champz Youth Club
DESCRIPTION:
URL:https://wallingtonsdahub.co.uk/event/champz-youth-club-41/
CATEGORIES:Champz Youth Club
END:VEVENT
BEGIN:VEVENT
DTSTART;TZID=UTC:20250320T170000
DTEND;TZID=UTC:20250320T190000
DTSTAMP:20260423T125957
CREATED:20250119T081805Z
LAST-MODIFIED:20250119T081805Z
UID:1870-1742490000-1742497200@wallingtonsdahub.co.uk
SUMMARY:Champz Youth Club
DESCRIPTION:
URL:https://wallingtonsdahub.co.uk/event/champz-youth-club-40/
CATEGORIES:Champz Youth Club
END:VEVENT
BEGIN:VEVENT
DTSTART;TZID=UTC:20250313T170000
DTEND;TZID=UTC:20250313T190000
DTSTAMP:20260423T125957
CREATED:20250119T081805Z
LAST-MODIFIED:20250119T081805Z
UID:1869-1741885200-1741892400@wallingtonsdahub.co.uk
SUMMARY:Champz Youth Club
DESCRIPTION:
URL:https://wallingtonsdahub.co.uk/event/champz-youth-club-39/
CATEGORIES:Champz Youth Club
END:VEVENT
END:VCALENDAR