BEGIN:VCALENDAR
VERSION:2.0
PRODID:-//Wallington SDA Hub - ECPv6.7.1//NONSGML v1.0//EN
CALSCALE:GREGORIAN
METHOD:PUBLISH
X-WR-CALNAME:Wallington SDA Hub
X-ORIGINAL-URL:https://wallingtonsdahub.co.uk
X-WR-CALDESC:Events for Wallington SDA Hub
REFRESH-INTERVAL;VALUE=DURATION:PT1H
X-Robots-Tag:noindex
X-PUBLISHED-TTL:PT1H
BEGIN:VTIMEZONE
TZID:UTC
BEGIN:STANDARD
TZOFFSETFROM:+0000
TZOFFSETTO:+0000
TZNAME:UTC
DTSTART:20250101T000000
END:STANDARD
END:VTIMEZONE
BEGIN:VEVENT
DTSTART;TZID=UTC:20250306T170000
DTEND;TZID=UTC:20250306T190000
DTSTAMP:20260423T181750
CREATED:20250119T081805Z
LAST-MODIFIED:20250119T081805Z
UID:1868-1741280400-1741287600@wallingtonsdahub.co.uk
SUMMARY:Champz Youth Club
DESCRIPTION:
URL:https://wallingtonsdahub.co.uk/event/champz-youth-club-38/
CATEGORIES:Champz Youth Club
END:VEVENT
BEGIN:VEVENT
DTSTART;TZID=UTC:20250227T170000
DTEND;TZID=UTC:20250227T190000
DTSTAMP:20260423T181750
CREATED:20250119T081805Z
LAST-MODIFIED:20250119T081805Z
UID:1867-1740675600-1740682800@wallingtonsdahub.co.uk
SUMMARY:Champz Youth Club
DESCRIPTION:
URL:https://wallingtonsdahub.co.uk/event/champz-youth-club-37/
CATEGORIES:Champz Youth Club
END:VEVENT
BEGIN:VEVENT
DTSTART;TZID=UTC:20250213T170000
DTEND;TZID=UTC:20250213T190000
DTSTAMP:20260423T181750
CREATED:20250119T081803Z
LAST-MODIFIED:20250119T081803Z
UID:1866-1739466000-1739473200@wallingtonsdahub.co.uk
SUMMARY:Champz Youth Club
DESCRIPTION:
URL:https://wallingtonsdahub.co.uk/event/champz-youth-club-36/
CATEGORIES:Champz Youth Club
END:VEVENT
BEGIN:VEVENT
DTSTART;TZID=UTC:20250206T170000
DTEND;TZID=UTC:20250206T190000
DTSTAMP:20260423T181750
CREATED:20250119T081803Z
LAST-MODIFIED:20250119T081803Z
UID:1865-1738861200-1738868400@wallingtonsdahub.co.uk
SUMMARY:Champz Youth Club
DESCRIPTION:
URL:https://wallingtonsdahub.co.uk/event/champz-youth-club-35/
CATEGORIES:Champz Youth Club
END:VEVENT
BEGIN:VEVENT
DTSTART;TZID=UTC:20250130T170000
DTEND;TZID=UTC:20250130T190000
DTSTAMP:20260423T181750
CREATED:20250119T081803Z
LAST-MODIFIED:20250119T081803Z
UID:1864-1738256400-1738263600@wallingtonsdahub.co.uk
SUMMARY:Champz Youth Club
DESCRIPTION:
URL:https://wallingtonsdahub.co.uk/event/champz-youth-club-34/
CATEGORIES:Champz Youth Club
END:VEVENT
BEGIN:VEVENT
DTSTART;TZID=UTC:20250123T170000
DTEND;TZID=UTC:20250123T190000
DTSTAMP:20260423T181750
CREATED:20250119T081803Z
LAST-MODIFIED:20250119T081803Z
UID:1863-1737651600-1737658800@wallingtonsdahub.co.uk
SUMMARY:Champz Youth Club
DESCRIPTION:
URL:https://wallingtonsdahub.co.uk/event/champz-youth-club-33/
CATEGORIES:Champz Youth Club
END:VEVENT
BEGIN:VEVENT
DTSTART;TZID=UTC:20250116T170000
DTEND;TZID=UTC:20250116T190000
DTSTAMP:20260423T181750
CREATED:20250119T081803Z
LAST-MODIFIED:20250119T081803Z
UID:1862-1737046800-1737054000@wallingtonsdahub.co.uk
SUMMARY:Champz Youth Club
DESCRIPTION:
URL:https://wallingtonsdahub.co.uk/event/champz-youth-club-32/
CATEGORIES:Champz Youth Club
END:VEVENT
END:VCALENDAR