BEGIN:VCALENDAR
VERSION:2.0
PRODID:-//Wallington SDA Hub - ECPv6.7.1//NONSGML v1.0//EN
CALSCALE:GREGORIAN
METHOD:PUBLISH
X-ORIGINAL-URL:https://wallingtonsdahub.co.uk
X-WR-CALDESC:Events for Wallington SDA Hub
REFRESH-INTERVAL;VALUE=DURATION:PT1H
X-Robots-Tag:noindex
X-PUBLISHED-TTL:PT1H
BEGIN:VTIMEZONE
TZID:UTC
BEGIN:STANDARD
TZOFFSETFROM:+0000
TZOFFSETTO:+0000
TZNAME:UTC
DTSTART:20250101T000000
END:STANDARD
END:VTIMEZONE
BEGIN:VEVENT
DTSTART;TZID=UTC:20251001T123000
DTEND;TZID=UTC:20251001T133000
DTSTAMP:20260424T092813
CREATED:20250119T084344Z
LAST-MODIFIED:20250119T084344Z
UID:1973-1759321800-1759325400@wallingtonsdahub.co.uk
SUMMARY:Food Hub
DESCRIPTION:
URL:https://wallingtonsdahub.co.uk/event/food-hub-74/
CATEGORIES:Food Hub
END:VEVENT
BEGIN:VEVENT
DTSTART;TZID=UTC:20251008T123000
DTEND;TZID=UTC:20251008T133000
DTSTAMP:20260424T092813
CREATED:20250119T084344Z
LAST-MODIFIED:20250119T084344Z
UID:1974-1759926600-1759930200@wallingtonsdahub.co.uk
SUMMARY:Food Hub
DESCRIPTION:
URL:https://wallingtonsdahub.co.uk/event/food-hub-75/
CATEGORIES:Food Hub
END:VEVENT
BEGIN:VEVENT
DTSTART;TZID=UTC:20251015T123000
DTEND;TZID=UTC:20251015T133000
DTSTAMP:20260424T092813
CREATED:20250119T084344Z
LAST-MODIFIED:20250119T084344Z
UID:1975-1760531400-1760535000@wallingtonsdahub.co.uk
SUMMARY:Food Hub
DESCRIPTION:
URL:https://wallingtonsdahub.co.uk/event/food-hub-76/
CATEGORIES:Food Hub
END:VEVENT
BEGIN:VEVENT
DTSTART;TZID=UTC:20251022T123000
DTEND;TZID=UTC:20251022T133000
DTSTAMP:20260424T092813
CREATED:20250119T084536Z
LAST-MODIFIED:20250119T084536Z
UID:1976-1761136200-1761139800@wallingtonsdahub.co.uk
SUMMARY:Food Hub
DESCRIPTION:
URL:https://wallingtonsdahub.co.uk/event/food-hub-77/
CATEGORIES:Food Hub
END:VEVENT
BEGIN:VEVENT
DTSTART;TZID=UTC:20251029T123000
DTEND;TZID=UTC:20251029T133000
DTSTAMP:20260424T092813
CREATED:20250119T084536Z
LAST-MODIFIED:20250119T084536Z
UID:1977-1761741000-1761744600@wallingtonsdahub.co.uk
SUMMARY:Food Hub
DESCRIPTION:
URL:https://wallingtonsdahub.co.uk/event/food-hub-78/
CATEGORIES:Food Hub
END:VEVENT
END:VCALENDAR