BEGIN:VCALENDAR
VERSION:2.0
PRODID:-//Wallington SDA Hub - ECPv6.7.1//NONSGML v1.0//EN
CALSCALE:GREGORIAN
METHOD:PUBLISH
X-ORIGINAL-URL:https://wallingtonsdahub.co.uk
X-WR-CALDESC:Events for Wallington SDA Hub
REFRESH-INTERVAL;VALUE=DURATION:PT1H
X-Robots-Tag:noindex
X-PUBLISHED-TTL:PT1H
BEGIN:VTIMEZONE
TZID:UTC
BEGIN:STANDARD
TZOFFSETFROM:+0000
TZOFFSETTO:+0000
TZNAME:UTC
DTSTART:20250101T000000
END:STANDARD
END:VTIMEZONE
BEGIN:VEVENT
DTSTART;TZID=UTC:20251224T123000
DTEND;TZID=UTC:20251224T133000
DTSTAMP:20260421T234134
CREATED:20250119T084552Z
LAST-MODIFIED:20250119T084552Z
UID:1984-1766579400-1766583000@wallingtonsdahub.co.uk
SUMMARY:Food Hub
DESCRIPTION:
URL:https://wallingtonsdahub.co.uk/event/food-hub-85/
CATEGORIES:Food Hub
END:VEVENT
END:VCALENDAR