BEGIN:VCALENDAR
VERSION:2.0
PRODID:-//Wallington SDA Hub - ECPv6.7.1//NONSGML v1.0//EN
CALSCALE:GREGORIAN
METHOD:PUBLISH
X-ORIGINAL-URL:https://wallingtonsdahub.co.uk
X-WR-CALDESC:Events for Wallington SDA Hub
REFRESH-INTERVAL;VALUE=DURATION:PT1H
X-Robots-Tag:noindex
X-PUBLISHED-TTL:PT1H
BEGIN:VTIMEZONE
TZID:UTC
BEGIN:STANDARD
TZOFFSETFROM:+0000
TZOFFSETTO:+0000
TZNAME:UTC
DTSTART:20250101T000000
END:STANDARD
END:VTIMEZONE
BEGIN:VEVENT
DTSTART;TZID=UTC:20250813T123000
DTEND;TZID=UTC:20250813T133000
DTSTAMP:20260423T105409
CREATED:20250119T084143Z
LAST-MODIFIED:20250119T084143Z
UID:1966-1755088200-1755091800@wallingtonsdahub.co.uk
SUMMARY:Food Hub
DESCRIPTION:
URL:https://wallingtonsdahub.co.uk/event/food-hub-67/
CATEGORIES:Food Hub
END:VEVENT
BEGIN:VEVENT
DTSTART;TZID=UTC:20250806T123000
DTEND;TZID=UTC:20250806T133000
DTSTAMP:20260423T105409
CREATED:20250119T083944Z
LAST-MODIFIED:20250119T083944Z
UID:1965-1754483400-1754487000@wallingtonsdahub.co.uk
SUMMARY:Food Hub
DESCRIPTION:
URL:https://wallingtonsdahub.co.uk/event/food-hub-66/
CATEGORIES:Food Hub
END:VEVENT
BEGIN:VEVENT
DTSTART;TZID=UTC:20250730T123000
DTEND;TZID=UTC:20250730T133000
DTSTAMP:20260423T105409
CREATED:20250119T083943Z
LAST-MODIFIED:20250119T083943Z
UID:1964-1753878600-1753882200@wallingtonsdahub.co.uk
SUMMARY:Food Hub
DESCRIPTION:
URL:https://wallingtonsdahub.co.uk/event/food-hub-65/
CATEGORIES:Food Hub
END:VEVENT
BEGIN:VEVENT
DTSTART;TZID=UTC:20250723T123000
DTEND;TZID=UTC:20250723T133000
DTSTAMP:20260423T105409
CREATED:20250119T083943Z
LAST-MODIFIED:20250119T083943Z
UID:1963-1753273800-1753277400@wallingtonsdahub.co.uk
SUMMARY:Food Hub
DESCRIPTION:
URL:https://wallingtonsdahub.co.uk/event/food-hub-64/
CATEGORIES:Food Hub
END:VEVENT
BEGIN:VEVENT
DTSTART;TZID=UTC:20250716T123000
DTEND;TZID=UTC:20250716T133000
DTSTAMP:20260423T105409
CREATED:20250119T083943Z
LAST-MODIFIED:20250119T083943Z
UID:1962-1752669000-1752672600@wallingtonsdahub.co.uk
SUMMARY:Food Hub
DESCRIPTION:
URL:https://wallingtonsdahub.co.uk/event/food-hub-63/
CATEGORIES:Food Hub
END:VEVENT
BEGIN:VEVENT
DTSTART;TZID=UTC:20250709T123000
DTEND;TZID=UTC:20250709T133000
DTSTAMP:20260423T105409
CREATED:20250119T083943Z
LAST-MODIFIED:20250119T083943Z
UID:1961-1752064200-1752067800@wallingtonsdahub.co.uk
SUMMARY:Food Hub
DESCRIPTION:
URL:https://wallingtonsdahub.co.uk/event/food-hub-62/
CATEGORIES:Food Hub
END:VEVENT
BEGIN:VEVENT
DTSTART;TZID=UTC:20250702T123000
DTEND;TZID=UTC:20250702T133000
DTSTAMP:20260423T105409
CREATED:20250119T083912Z
LAST-MODIFIED:20250119T083912Z
UID:1960-1751459400-1751463000@wallingtonsdahub.co.uk
SUMMARY:Food Hub
DESCRIPTION:
URL:https://wallingtonsdahub.co.uk/event/food-hub-61/
CATEGORIES:Food Hub
END:VEVENT
BEGIN:VEVENT
DTSTART;TZID=UTC:20250625T123000
DTEND;TZID=UTC:20250625T133000
DTSTAMP:20260423T105409
CREATED:20250119T083912Z
LAST-MODIFIED:20250119T083912Z
UID:1959-1750854600-1750858200@wallingtonsdahub.co.uk
SUMMARY:Food Hub
DESCRIPTION:
URL:https://wallingtonsdahub.co.uk/event/food-hub-60/
CATEGORIES:Food Hub
END:VEVENT
BEGIN:VEVENT
DTSTART;TZID=UTC:20250618T123000
DTEND;TZID=UTC:20250618T133000
DTSTAMP:20260423T105409
CREATED:20250119T083911Z
LAST-MODIFIED:20250119T083911Z
UID:1958-1750249800-1750253400@wallingtonsdahub.co.uk
SUMMARY:Food Hub
DESCRIPTION:
URL:https://wallingtonsdahub.co.uk/event/food-hub-59/
CATEGORIES:Food Hub
END:VEVENT
BEGIN:VEVENT
DTSTART;TZID=UTC:20250611T123000
DTEND;TZID=UTC:20250611T133000
DTSTAMP:20260423T105409
CREATED:20250119T083911Z
LAST-MODIFIED:20250119T083911Z
UID:1957-1749645000-1749648600@wallingtonsdahub.co.uk
SUMMARY:Food Hub
DESCRIPTION:
URL:https://wallingtonsdahub.co.uk/event/food-hub-58/
CATEGORIES:Food Hub
END:VEVENT
BEGIN:VEVENT
DTSTART;TZID=UTC:20250604T123000
DTEND;TZID=UTC:20250604T133000
DTSTAMP:20260423T105409
CREATED:20250119T083911Z
LAST-MODIFIED:20250119T083911Z
UID:1956-1749040200-1749043800@wallingtonsdahub.co.uk
SUMMARY:Food Hub
DESCRIPTION:
URL:https://wallingtonsdahub.co.uk/event/food-hub-57/
CATEGORIES:Food Hub
END:VEVENT
BEGIN:VEVENT
DTSTART;TZID=UTC:20250528T123000
DTEND;TZID=UTC:20250528T133000
DTSTAMP:20260423T105409
CREATED:20250119T083711Z
LAST-MODIFIED:20250119T083711Z
UID:1955-1748435400-1748439000@wallingtonsdahub.co.uk
SUMMARY:Food Hub
DESCRIPTION:
URL:https://wallingtonsdahub.co.uk/event/food-hub-56/
CATEGORIES:Food Hub
END:VEVENT
BEGIN:VEVENT
DTSTART;TZID=UTC:20250521T123000
DTEND;TZID=UTC:20250521T133000
DTSTAMP:20260423T105409
CREATED:20250119T083710Z
LAST-MODIFIED:20250119T083710Z
UID:1954-1747830600-1747834200@wallingtonsdahub.co.uk
SUMMARY:Food Hub
DESCRIPTION:
URL:https://wallingtonsdahub.co.uk/event/food-hub-55/
CATEGORIES:Food Hub
END:VEVENT
BEGIN:VEVENT
DTSTART;TZID=UTC:20250514T123000
DTEND;TZID=UTC:20250514T133000
DTSTAMP:20260423T105409
CREATED:20250119T083710Z
LAST-MODIFIED:20250119T083710Z
UID:1953-1747225800-1747229400@wallingtonsdahub.co.uk
SUMMARY:Food Hub
DESCRIPTION:
URL:https://wallingtonsdahub.co.uk/event/food-hub-54/
CATEGORIES:Food Hub
END:VEVENT
BEGIN:VEVENT
DTSTART;TZID=UTC:20250507T123000
DTEND;TZID=UTC:20250507T133000
DTSTAMP:20260423T105409
CREATED:20250119T083710Z
LAST-MODIFIED:20250119T083710Z
UID:1952-1746621000-1746624600@wallingtonsdahub.co.uk
SUMMARY:Food Hub
DESCRIPTION:
URL:https://wallingtonsdahub.co.uk/event/food-hub-53/
CATEGORIES:Food Hub
END:VEVENT
BEGIN:VEVENT
DTSTART;TZID=UTC:20250430T123000
DTEND;TZID=UTC:20250430T133000
DTSTAMP:20260423T105409
CREATED:20250119T083710Z
LAST-MODIFIED:20250119T083710Z
UID:1951-1746016200-1746019800@wallingtonsdahub.co.uk
SUMMARY:Food Hub
DESCRIPTION:
URL:https://wallingtonsdahub.co.uk/event/food-hub-52/
CATEGORIES:Food Hub
END:VEVENT
BEGIN:VEVENT
DTSTART;TZID=UTC:20250423T123000
DTEND;TZID=UTC:20250423T133000
DTSTAMP:20260423T105409
CREATED:20250119T083509Z
LAST-MODIFIED:20250119T083509Z
UID:1950-1745411400-1745415000@wallingtonsdahub.co.uk
SUMMARY:Food Hub
DESCRIPTION:
URL:https://wallingtonsdahub.co.uk/event/food-hub-51/
CATEGORIES:Food Hub
END:VEVENT
BEGIN:VEVENT
DTSTART;TZID=UTC:20250416T123000
DTEND;TZID=UTC:20250416T133000
DTSTAMP:20260423T105409
CREATED:20250119T083509Z
LAST-MODIFIED:20250119T083509Z
UID:1949-1744806600-1744810200@wallingtonsdahub.co.uk
SUMMARY:Food Hub
DESCRIPTION:
URL:https://wallingtonsdahub.co.uk/event/food-hub-50/
CATEGORIES:Food Hub
END:VEVENT
BEGIN:VEVENT
DTSTART;TZID=UTC:20250409T123000
DTEND;TZID=UTC:20250409T133000
DTSTAMP:20260423T105409
CREATED:20250119T083509Z
LAST-MODIFIED:20250119T083509Z
UID:1948-1744201800-1744205400@wallingtonsdahub.co.uk
SUMMARY:Food Hub
DESCRIPTION:
URL:https://wallingtonsdahub.co.uk/event/food-hub-49/
CATEGORIES:Food Hub
END:VEVENT
BEGIN:VEVENT
DTSTART;TZID=UTC:20250402T123000
DTEND;TZID=UTC:20250402T133000
DTSTAMP:20260423T105409
CREATED:20250119T083509Z
LAST-MODIFIED:20250119T083509Z
UID:1947-1743597000-1743600600@wallingtonsdahub.co.uk
SUMMARY:Food Hub
DESCRIPTION:
URL:https://wallingtonsdahub.co.uk/event/food-hub-48/
CATEGORIES:Food Hub
END:VEVENT
BEGIN:VEVENT
DTSTART;TZID=UTC:20250326T123000
DTEND;TZID=UTC:20250326T133000
DTSTAMP:20260423T105409
CREATED:20250119T083509Z
LAST-MODIFIED:20250119T083509Z
UID:1946-1742992200-1742995800@wallingtonsdahub.co.uk
SUMMARY:Food Hub
DESCRIPTION:
URL:https://wallingtonsdahub.co.uk/event/food-hub-47/
CATEGORIES:Food Hub
END:VEVENT
BEGIN:VEVENT
DTSTART;TZID=UTC:20250319T123000
DTEND;TZID=UTC:20250319T133000
DTSTAMP:20260423T105409
CREATED:20250119T083454Z
LAST-MODIFIED:20250119T083454Z
UID:1945-1742387400-1742391000@wallingtonsdahub.co.uk
SUMMARY:Food Hub
DESCRIPTION:
URL:https://wallingtonsdahub.co.uk/event/food-hub-46/
CATEGORIES:Food Hub
END:VEVENT
BEGIN:VEVENT
DTSTART;TZID=UTC:20250312T123000
DTEND;TZID=UTC:20250312T133000
DTSTAMP:20260423T105409
CREATED:20250119T073224Z
LAST-MODIFIED:20250119T083454Z
UID:1722-1741782600-1741786200@wallingtonsdahub.co.uk
SUMMARY:Food Hub
DESCRIPTION:
URL:https://wallingtonsdahub.co.uk/event/food-hub-35/
CATEGORIES:Food Hub
END:VEVENT
BEGIN:VEVENT
DTSTART;TZID=UTC:20250305T123000
DTEND;TZID=UTC:20250305T133000
DTSTAMP:20260423T105409
CREATED:20250119T083453Z
LAST-MODIFIED:20250119T083453Z
UID:1944-1741177800-1741181400@wallingtonsdahub.co.uk
SUMMARY:Food Hub
DESCRIPTION:
URL:https://wallingtonsdahub.co.uk/event/food-hub-45/
CATEGORIES:Food Hub
END:VEVENT
BEGIN:VEVENT
DTSTART;TZID=UTC:20250226T123000
DTEND;TZID=UTC:20250226T133000
DTSTAMP:20260423T105409
CREATED:20250119T083453Z
LAST-MODIFIED:20250119T083453Z
UID:1943-1740573000-1740576600@wallingtonsdahub.co.uk
SUMMARY:Food Hub
DESCRIPTION:
URL:https://wallingtonsdahub.co.uk/event/food-hub-44/
CATEGORIES:Food Hub
END:VEVENT
BEGIN:VEVENT
DTSTART;TZID=UTC:20250219T123000
DTEND;TZID=UTC:20250219T133000
DTSTAMP:20260423T105409
CREATED:20250119T083453Z
LAST-MODIFIED:20250119T083453Z
UID:1942-1739968200-1739971800@wallingtonsdahub.co.uk
SUMMARY:Food Hub
DESCRIPTION:
URL:https://wallingtonsdahub.co.uk/event/food-hub-43/
CATEGORIES:Food Hub
END:VEVENT
BEGIN:VEVENT
DTSTART;TZID=UTC:20250212T123000
DTEND;TZID=UTC:20250212T133000
DTSTAMP:20260423T105409
CREATED:20250119T083400Z
LAST-MODIFIED:20250119T083400Z
UID:1941-1739363400-1739367000@wallingtonsdahub.co.uk
SUMMARY:Food Hub
DESCRIPTION:
URL:https://wallingtonsdahub.co.uk/event/food-hub-42/
CATEGORIES:Food Hub
END:VEVENT
BEGIN:VEVENT
DTSTART;TZID=UTC:20250205T123000
DTEND;TZID=UTC:20250205T133000
DTSTAMP:20260423T105409
CREATED:20250119T083400Z
LAST-MODIFIED:20250119T083400Z
UID:1940-1738758600-1738762200@wallingtonsdahub.co.uk
SUMMARY:Food Hub
DESCRIPTION:
URL:https://wallingtonsdahub.co.uk/event/food-hub-41/
CATEGORIES:Food Hub
END:VEVENT
BEGIN:VEVENT
DTSTART;TZID=UTC:20250129T123000
DTEND;TZID=UTC:20250129T133000
DTSTAMP:20260423T105409
CREATED:20250119T083400Z
LAST-MODIFIED:20250119T083400Z
UID:1939-1738153800-1738157400@wallingtonsdahub.co.uk
SUMMARY:Food Hub
DESCRIPTION:
URL:https://wallingtonsdahub.co.uk/event/food-hub-40/
CATEGORIES:Food Hub
END:VEVENT
BEGIN:VEVENT
DTSTART;TZID=UTC:20250122T123000
DTEND;TZID=UTC:20250122T133000
DTSTAMP:20260423T105409
CREATED:20250119T083400Z
LAST-MODIFIED:20250119T083400Z
UID:1938-1737549000-1737552600@wallingtonsdahub.co.uk
SUMMARY:Food Hub
DESCRIPTION:
URL:https://wallingtonsdahub.co.uk/event/food-hub-39/
CATEGORIES:Food Hub
END:VEVENT
END:VCALENDAR